BEGIN:VCALENDAR
VERSION:2.0
PRODID:-//AER Neuerin - ECPv6.15.11//NONSGML v1.0//EN
CALSCALE:GREGORIAN
METHOD:PUBLISH
X-WR-CALNAME:AER Neuerin
X-ORIGINAL-URL:https://aer-folgreich-leben.de
X-WR-CALDESC:Veranstaltungen für AER Neuerin
REFRESH-INTERVAL;VALUE=DURATION:PT1H
X-Robots-Tag:noindex
X-PUBLISHED-TTL:PT1H
BEGIN:VTIMEZONE
TZID:Europe/Berlin
BEGIN:DAYLIGHT
TZOFFSETFROM:+0100
TZOFFSETTO:+0200
TZNAME:CEST
DTSTART:20250330T010000
END:DAYLIGHT
BEGIN:STANDARD
TZOFFSETFROM:+0200
TZOFFSETTO:+0100
TZNAME:CET
DTSTART:20251026T010000
END:STANDARD
BEGIN:DAYLIGHT
TZOFFSETFROM:+0100
TZOFFSETTO:+0200
TZNAME:CEST
DTSTART:20260329T010000
END:DAYLIGHT
BEGIN:STANDARD
TZOFFSETFROM:+0200
TZOFFSETTO:+0100
TZNAME:CET
DTSTART:20261025T010000
END:STANDARD
BEGIN:DAYLIGHT
TZOFFSETFROM:+0100
TZOFFSETTO:+0200
TZNAME:CEST
DTSTART:20270328T010000
END:DAYLIGHT
BEGIN:STANDARD
TZOFFSETFROM:+0200
TZOFFSETTO:+0100
TZNAME:CET
DTSTART:20271031T010000
END:STANDARD
END:VTIMEZONE
BEGIN:VEVENT
DTSTART;TZID=Europe/Berlin:20260308T110000
DTEND;TZID=Europe/Berlin:20260308T120000
DTSTAMP:20260420T140224
CREATED:20260305T111306Z
LAST-MODIFIED:20260316T132251Z
UID:2392-1772967600-1772971200@aer-folgreich-leben.de
SUMMARY:Grundkurs Info - Aura Sehen nach Rainer Strücker
DESCRIPTION:In unserem Energiefeld – der Aura\, werden während unseres Lebens alle Erlebnisse und Erfahrungen gespeichert die sich auf unseren Körper\, Psyche und Geist auswirken. \nDer Grundkurs gibt die Möglichkeit mit einfachen Übungen zu lernen\, wie wir die eigene Lebenskraft von allem befreien was sie schwächt und wie wir die Lebenskraft weiter stärken für mehr Lebensfreude in uns und unserem Leben. \nMit der neu gewonnenen Lebenskraft\, steigt die Wahrnehmung\, entfaltet sich die eigene Persönlichkeit und entwickeln sich die Potentiale des Bewusstseins frei.  \nDie Grundausbildung setzt keinerlei Vorkenntnisse voraus\, dieser Weg steht allen offen. \nIch freue mich auf Jeden \nAlexandra \n  \nTerminüberblick vor Ort und Online: \nSonntag\, 08.03.2026 – 11 Uhr          \nFreitag\, 13.03.2026 – 19 Uhr (Online) \nSamstag\, 14.03.2026 – 11 Uhr          \nMontag\, 16.03.2026 – 19 Uhr (Online) \nFreitag\, 20.03.2026 – 19 Uhr (Online) \nSonntag\, 22.03.2026 – 11 Uhr          \nMittwoch\, 25.03.2026 – 19 Uhr (Online) \nDonnerstag 26.03.2026 – 19 Uhr          \nMontag\, 30.03.2026 – 19 Uhr \n  \nDie Teilnahme ist kostenfrei. \n  \nOrt: Alexandra Ellen Rechkemmer \nBodelschwinghstraße 2a \n40878 Ratingen \n  \nOrt: Online per Zoom \nMeeting-ID: 830 2335 0468 \nKenncode: 111698 \nDirekter Zoomlink: https://us06web.zoom.us/j/83023350468?pwd=86BnRezUiJ9tQj1DGeDNatljwaZpEB.1 \n  \nAnmeldung \nMobil: +49 (0) 157. 75 37 28 02 (auch WhatsApp) \nMail: neu@aer-neuerin.de \n 
URL:https://aer-folgreich-leben.de/event/grundkurs-info-aura-sehen-nach-rainer-struecker/
END:VEVENT
BEGIN:VEVENT
DTSTART;TZID=Europe/Berlin:20260313T190000
DTEND;TZID=Europe/Berlin:20260313T200000
DTSTAMP:20260420T140224
CREATED:20260305T111419Z
LAST-MODIFIED:20260316T132310Z
UID:2394-1773428400-1773432000@aer-folgreich-leben.de
SUMMARY:Grundkurs Info - Online - Aura Sehen nach Rainer Strücker
DESCRIPTION:In unserem Energiefeld – der Aura\, werden während unseres Lebens alle Erlebnisse und Erfahrungen gespeichert die sich auf unseren Körper\, Psyche und Geist auswirken. \nDer Grundkurs gibt die Möglichkeit mit einfachen Übungen zu lernen\, wie wir die eigene Lebenskraft von allem befreien was sie schwächt und wie wir die Lebenskraft weiter stärken für mehr Lebensfreude in uns und unserem Leben. \nMit der neu gewonnenen Lebenskraft\, steigt die Wahrnehmung\, entfaltet sich die eigene Persönlichkeit und entwickeln sich die Potentiale des Bewusstseins frei. \nDie Grundausbildung setzt keinerlei Vorkenntnisse voraus\, dieser Weg steht allen offen. \nIch freue mich auf Jeden \nAlexandra \n  \nTerminüberblick vor Ort und Online: \nSonntag\, 08.03.2026 – 11 Uhr          \nFreitag\, 13.03.2026 – 19 Uhr (Online) \nSamstag\, 14.03.2026 – 11 Uhr          \nMontag\, 16.03.2026 – 19 Uhr (Online) \nFreitag\, 20.03.2026 – 19 Uhr (Online) \nSonntag\, 22.03.2026 – 11 Uhr          \nMittwoch\, 25.03.2026 – 19 Uhr (Online) \nDonnerstag 26.03.2026 – 19 Uhr          \nMontag\, 30.03.2026 – 19 Uhr \n  \nDie Teilnahme ist kostenfrei. \n  \nOrt: Alexandra Ellen Rechkemmer \nBodelschwinghstraße 2a \n40878 Ratingen \n  \nOrt: Online per Zoom \nMeeting-ID: 830 2335 0468 \nKenncode: 111698 \nDirekter Zoomlink: https://us06web.zoom.us/j/83023350468?pwd=86BnRezUiJ9tQj1DGeDNatljwaZpEB.1 \n  \nAnmeldung \nMobil: +49 (0) 157. 75 37 28 02 (auch WhatsApp) \nMail: neu@aer-neuerin.de
URL:https://aer-folgreich-leben.de/event/grundkurs-info-aura-sehen-nach-rainer-struecker-2/
END:VEVENT
BEGIN:VEVENT
DTSTART;TZID=Europe/Berlin:20260314T110000
DTEND;TZID=Europe/Berlin:20260314T120000
DTSTAMP:20260420T140224
CREATED:20260305T111521Z
LAST-MODIFIED:20260316T132334Z
UID:2396-1773486000-1773489600@aer-folgreich-leben.de
SUMMARY:Grundkurs Info - Aura Sehen nach Rainer Strücker
DESCRIPTION:In unserem Energiefeld – der Aura\, werden während unseres Lebens alle Erlebnisse und Erfahrungen gespeichert die sich auf unseren Körper\, Psyche und Geist auswirken. \nDer Grundkurs gibt die Möglichkeit mit einfachen Übungen zu lernen\, wie wir die eigene Lebenskraft von allem befreien was sie schwächt und wie wir die Lebenskraft weiter stärken für mehr Lebensfreude in uns und unserem Leben. \nMit der neu gewonnenen Lebenskraft\, steigt die Wahrnehmung\, entfaltet sich die eigene Persönlichkeit und entwickeln sich die Potentiale des Bewusstseins frei. \nDie Grundausbildung setzt keinerlei Vorkenntnisse voraus\, dieser Weg steht allen offen. \nIch freue mich auf Jeden \nAlexandra \n  \nTerminüberblick vor Ort und Online: \nSonntag\, 08.03.2026 – 11 Uhr          \nFreitag\, 13.03.2026 – 19 Uhr (Online) \nSamstag\, 14.03.2026 – 11 Uhr          \nMontag\, 16.03.2026 – 19 Uhr (Online) \nFreitag\, 20.03.2026 – 19 Uhr (Online) \nSonntag\, 22.03.2026 – 11 Uhr          \nMittwoch\, 25.03.2026 – 19 Uhr (Online) \nDonnerstag 26.03.2026 – 19 Uhr          \nMontag\, 30.03.2026 – 19 Uhr \n  \nDie Teilnahme ist kostenfrei. \n  \nOrt: Alexandra Ellen Rechkemmer \nBodelschwinghstraße 2a \n40878 Ratingen \n  \nOrt: Online per Zoom \nMeeting-ID: 830 2335 0468 \nKenncode: 111698 \nDirekter Zoomlink: https://us06web.zoom.us/j/83023350468?pwd=86BnRezUiJ9tQj1DGeDNatljwaZpEB.1 \n  \nAnmeldung \nMobil: +49 (0) 157. 75 37 28 02 (auch WhatsApp) \nMail: neu@aer-neuerin.de
URL:https://aer-folgreich-leben.de/event/grundkurs-info-aura-sehen-nach-rainer-struecker-3/
END:VEVENT
BEGIN:VEVENT
DTSTART;TZID=Europe/Berlin:20260316T190000
DTEND;TZID=Europe/Berlin:20260316T200000
DTSTAMP:20260420T140224
CREATED:20260305T111644Z
LAST-MODIFIED:20260316T132353Z
UID:2398-1773687600-1773691200@aer-folgreich-leben.de
SUMMARY:Grundkurs Info - Online - Aura Sehen nach Rainer Strücker
DESCRIPTION:In unserem Energiefeld – der Aura\, werden während unseres Lebens alle Erlebnisse und Erfahrungen gespeichert die sich auf unseren Körper\, Psyche und Geist auswirken. \nDer Grundkurs gibt die Möglichkeit mit einfachen Übungen zu lernen\, wie wir die eigene Lebenskraft von allem befreien was sie schwächt und wie wir die Lebenskraft weiter stärken für mehr Lebensfreude in uns und unserem Leben. \nMit der neu gewonnenen Lebenskraft\, steigt die Wahrnehmung\, entfaltet sich die eigene Persönlichkeit und entwickeln sich die Potentiale des Bewusstseins frei. \nDie Grundausbildung setzt keinerlei Vorkenntnisse voraus\, dieser Weg steht allen offen. \nIch freue mich auf Jeden \nAlexandra \n  \nTerminüberblick vor Ort und Online: \nSonntag\, 08.03.2026 – 11 Uhr          \nFreitag\, 13.03.2026 – 19 Uhr (Online) \nSamstag\, 14.03.2026 – 11 Uhr          \nMontag\, 16.03.2026 – 19 Uhr (Online) \nFreitag\, 20.03.2026 – 19 Uhr (Online) \nSonntag\, 22.03.2026 – 11 Uhr          \nMittwoch\, 25.03.2026 – 19 Uhr (Online) \nDonnerstag 26.03.2026 – 19 Uhr          \nMontag\, 30.03.2026 – 19 Uhr \n  \nDie Teilnahme ist kostenfrei. \n  \nOrt: Alexandra Ellen Rechkemmer \nBodelschwinghstraße 2a \n40878 Ratingen \n  \nOrt: Online per Zoom \nMeeting-ID: 830 2335 0468 \nKenncode: 111698 \nDirekter Zoomlink: https://us06web.zoom.us/j/83023350468?pwd=86BnRezUiJ9tQj1DGeDNatljwaZpEB.1 \n  \nAnmeldung \nMobil: +49 (0) 157. 75 37 28 02 (auch WhatsApp) \nMail: neu@aer-neuerin.de
URL:https://aer-folgreich-leben.de/event/grundkurs-info-aura-sehen-nach-rainer-struecker-4/
END:VEVENT
BEGIN:VEVENT
DTSTART;TZID=Europe/Berlin:20260320T190000
DTEND;TZID=Europe/Berlin:20260320T200000
DTSTAMP:20260420T140224
CREATED:20260305T111802Z
LAST-MODIFIED:20260316T132411Z
UID:2400-1774033200-1774036800@aer-folgreich-leben.de
SUMMARY:Grundkurs Info - Online - Aura Sehen nach Rainer Strücker
DESCRIPTION:In unserem Energiefeld – der Aura\, werden während unseres Lebens alle Erlebnisse und Erfahrungen gespeichert die sich auf unseren Körper\, Psyche und Geist auswirken. \nDer Grundkurs gibt die Möglichkeit mit einfachen Übungen zu lernen\, wie wir die eigene Lebenskraft von allem befreien was sie schwächt und wie wir die Lebenskraft weiter stärken für mehr Lebensfreude in uns und unserem Leben. \nMit der neu gewonnenen Lebenskraft\, steigt die Wahrnehmung\, entfaltet sich die eigene Persönlichkeit und entwickeln sich die Potentiale des Bewusstseins frei. \nDie Grundausbildung setzt keinerlei Vorkenntnisse voraus\, dieser Weg steht allen offen. \nIch freue mich auf Jeden \nAlexandra \n  \nTerminüberblick vor Ort und Online: \nSonntag\, 08.03.2026 – 11 Uhr          \nFreitag\, 13.03.2026 – 19 Uhr (Online) \nSamstag\, 14.03.2026 – 11 Uhr          \nMontag\, 16.03.2026 – 19 Uhr (Online) \nFreitag\, 20.03.2026 – 19 Uhr (Online) \nSonntag\, 22.03.2026 – 11 Uhr          \nMittwoch\, 25.03.2026 – 19 Uhr (Online) \nDonnerstag 26.03.2026 – 19 Uhr          \nMontag\, 30.03.2026 – 19 Uhr \n  \nDie Teilnahme ist kostenfrei. \n  \nOrt: Alexandra Ellen Rechkemmer \nBodelschwinghstraße 2a \n40878 Ratingen \n  \nOrt: Online per Zoom \nMeeting-ID: 830 2335 0468 \nKenncode: 111698 \nDirekter Zoomlink: https://us06web.zoom.us/j/83023350468?pwd=86BnRezUiJ9tQj1DGeDNatljwaZpEB.1 \n  \nAnmeldung \nMobil: +49 (0) 157. 75 37 28 02 (auch WhatsApp) \nMail: neu@aer-neuerin.de
URL:https://aer-folgreich-leben.de/event/grundkurs-info-aura-sehen-nach-rainer-struecker-5/
END:VEVENT
BEGIN:VEVENT
DTSTART;TZID=Europe/Berlin:20260322T110000
DTEND;TZID=Europe/Berlin:20260322T120000
DTSTAMP:20260420T140224
CREATED:20260305T111914Z
LAST-MODIFIED:20260320T105321Z
UID:2402-1774177200-1774180800@aer-folgreich-leben.de
SUMMARY:Grundkurs Info - Aura Sehen nach Rainer Strücker
DESCRIPTION:In unserem Energiefeld – der Aura\, werden während unseres Lebens alle Erlebnisse und Erfahrungen gespeichert die sich auf unseren Körper\, Psyche und Geist auswirken. \nDer Grundkurs gibt die Möglichkeit mit einfachen Übungen zu lernen\, wie wir die eigene Lebenskraft von allem befreien was sie schwächt und wie wir die Lebenskraft weiter stärken für mehr Lebensfreude in uns und unserem Leben. \nMit der neu gewonnenen Lebenskraft\, steigt die Wahrnehmung\, entfaltet sich die eigene Persönlichkeit und entwickeln sich die Potentiale des Bewusstseins frei. \nDie Grundausbildung setzt keinerlei Vorkenntnisse voraus\, dieser Weg steht allen offen. \nIch freue mich auf Jeden \nAlexandra \n  \nTerminüberblick vor Ort und Online: \nSonntag\, 08.03.2026 – 11 Uhr          \nFreitag\, 13.03.2026 – 19 Uhr (Online) \nSamstag\, 14.03.2026 – 11 Uhr          \nMontag\, 16.03.2026 – 19 Uhr (Online) \nFreitag\, 20.03.2026 – 19 Uhr (Online) \nSonntag\, 22.03.2026 – 11 Uhr          \nMittwoch\, 25.03.2026 – 19 Uhr (Online) \nDonnerstag 26.03.2026 – 19 Uhr          \nMontag\, 30.03.2026 – 19 Uhr \n  \nDie Teilnahme ist kostenfrei. \n  \nOrt: Alexandra Ellen Rechkemmer \nBodelschwinghstraße 2a \n40878 Ratingen \n  \n  \nAnmeldung \nMobil: +49 (0) 157. 75 37 28 02 (auch WhatsApp) \nMail: neu@aer-neuerin.de
URL:https://aer-folgreich-leben.de/event/grundkurs-info-aura-sehen-nach-rainer-struecker-6/
END:VEVENT
BEGIN:VEVENT
DTSTART;TZID=Europe/Berlin:20260322T180000
DTEND;TZID=Europe/Berlin:20260322T183000
DTSTAMP:20260420T140224
CREATED:20260122T204544Z
LAST-MODIFIED:20260123T104140Z
UID:2360-1774202400-1774204200@aer-folgreich-leben.de
SUMMARY:Meditation-Online zum Quell-Impuls von „Strücker-energetische Konzepte“ mit Alexandra Ellen Rechkemmer
DESCRIPTION:Jeder ist herzlich Willkommen\, bei der Meditation-Online zum Quell-Impuls dabei zu sein. \nWeitere Infos und Termine zum Quell-Impuls findest du auf der Homepage „Strücker-energetische Konzepte“. \nHomepage Link: https://energetische-konzepte.de/kalender \nMit diesem Link wirst du auf die Homepage „Strücker-energetische Konzepte“ weitergeleitet. \n  \nTermin-Überblick der folgenden Quell-Meditationen: \n\nMontag\, 26.1.2026 – 18 Uhr\nFreitag\, 6.2.2026 – 18 Uhr \nSonntag\, 22.3.2026 – 18 Uhr \nDonnerstag\, 2.4.2026 – 18 Uhr\nMontag\, 13.4.2026 – 18 Uhr \nFreitag\, 24.4.2026 – 18 Uhr\n\n  \nPreis: kostenfrei \n  \nAn Zoom-Meeting *Meditation-Online* teilnehmen: \nhttps://us06web.zoom.us/j/83891722197?pwd=KFcCThPWzSN3vjC3c7WzOHoZo7mbcp.1 \nMeeting-ID: 838 9172 2197 \nKenncode: 612600 \n  \nMeditation – Vorbereitung: \n• Bequeme und warme Kleidung – in der Du Dich frei bewegen kannst\, Wasser\, Tee\, … zum trinken \n• Ein angenehmer Stuhl\, Couch oder Bett\, ein Kopfkissen und eine Decke \n• Einen Raum in dem Du ungestört bist mit sehr guter Internetverbindung \n• Eine angenehme Atmosphäre\, mit einem guten Duft\, frischer Luft oder was Dir sonst angenehm ist \n• Falls du gerne eine begleitende Musik im Hintergrund hören möchtest\, wähle für dich die passende Musik vorab aus\, so kann jeder frei\, mit und ohne Musik teilnehmen \n• Erschaffe Dir auch gerne für die Zukunft einen Platz in Deinem zu Hause\, an dem Du immer wieder zwischendurch in die Ruhe kommen kannst und zu dir findest \n  \nTeile gerne die kommenden Meditation Termine mit deinen Lieben\, Freunden und Anderen\, für ein weiteres Wachstum Miteinander.  \n  \nAlle sind herzlich willkommen. \n🧡 Grüße Alexandra
URL:https://aer-folgreich-leben.de/event/meditation-online-zum-quell-impuls-von-struecker-energetische-konzepte-mit-alexandra-ellen-rechkemmer-6/
END:VEVENT
BEGIN:VEVENT
DTSTART;TZID=Europe/Berlin:20260325T190000
DTEND;TZID=Europe/Berlin:20260325T200000
DTSTAMP:20260420T140224
CREATED:20260305T112021Z
LAST-MODIFIED:20260320T105512Z
UID:2405-1774465200-1774468800@aer-folgreich-leben.de
SUMMARY:Grundkurs Info - Online - Aura Sehen nach Rainer Strücker
DESCRIPTION:In unserem Energiefeld – der Aura\, werden während unseres Lebens alle Erlebnisse und Erfahrungen gespeichert die sich auf unseren Körper\, Psyche und Geist auswirken. \nDer Grundkurs gibt die Möglichkeit mit einfachen Übungen zu lernen\, wie wir die eigene Lebenskraft von allem befreien was sie schwächt und wie wir die Lebenskraft weiter stärken für mehr Lebensfreude in uns und unserem Leben. \nMit der neu gewonnenen Lebenskraft\, steigt die Wahrnehmung\, entfaltet sich die eigene Persönlichkeit und entwickeln sich die Potentiale des Bewusstseins frei. \nDie Grundausbildung setzt keinerlei Vorkenntnisse voraus\, dieser Weg steht allen offen. \nIch freue mich auf Jeden \nAlexandra \n  \nTerminüberblick vor Ort und Online: \nSonntag\, 08.03.2026 – 11 Uhr          \nFreitag\, 13.03.2026 – 19 Uhr (Online) \nSamstag\, 14.03.2026 – 11 Uhr          \nMontag\, 16.03.2026 – 19 Uhr (Online) \nFreitag\, 20.03.2026 – 19 Uhr (Online) \nSonntag\, 22.03.2026 – 11 Uhr          \nMittwoch\, 25.03.2026 – 19 Uhr (Online) \nDonnerstag 26.03.2026 – 19 Uhr          \nMontag\, 30.03.2026 – 19 Uhr \n  \nDie Teilnahme ist kostenfrei. \n  \nOrt: Online per Zoom \nMeeting-ID: 830 2335 0468 \nKenncode: 111698 \nDirekter Zoomlink: https://us06web.zoom.us/j/83023350468?pwd=86BnRezUiJ9tQj1DGeDNatljwaZpEB.1 \n  \nAnmeldung \nMobil: +49 (0) 157. 75 37 28 02 (auch WhatsApp) \nMail: neu@aer-neuerin.de
URL:https://aer-folgreich-leben.de/event/grundkurs-info-aura-sehen-nach-rainer-struecker-7/
END:VEVENT
BEGIN:VEVENT
DTSTART;TZID=Europe/Berlin:20260326T190000
DTEND;TZID=Europe/Berlin:20260326T200000
DTSTAMP:20260420T140224
CREATED:20260305T112112Z
LAST-MODIFIED:20260320T105546Z
UID:2407-1774551600-1774555200@aer-folgreich-leben.de
SUMMARY:Grundkurs Info - Aura Sehen nach Rainer Strücker
DESCRIPTION:In unserem Energiefeld – der Aura\, werden während unseres Lebens alle Erlebnisse und Erfahrungen gespeichert die sich auf unseren Körper\, Psyche und Geist auswirken. \nDer Grundkurs gibt die Möglichkeit mit einfachen Übungen zu lernen\, wie wir die eigene Lebenskraft von allem befreien was sie schwächt und wie wir die Lebenskraft weiter stärken für mehr Lebensfreude in uns und unserem Leben. \nMit der neu gewonnenen Lebenskraft\, steigt die Wahrnehmung\, entfaltet sich die eigene Persönlichkeit und entwickeln sich die Potentiale des Bewusstseins frei. \nDie Grundausbildung setzt keinerlei Vorkenntnisse voraus\, dieser Weg steht allen offen. \nIch freue mich auf Jeden \nAlexandra \n  \nTerminüberblick vor Ort und Online: \nSonntag\, 08.03.2026 – 11 Uhr          \nFreitag\, 13.03.2026 – 19 Uhr (Online) \nSamstag\, 14.03.2026 – 11 Uhr          \nMontag\, 16.03.2026 – 19 Uhr (Online) \nFreitag\, 20.03.2026 – 19 Uhr (Online) \nSonntag\, 22.03.2026 – 11 Uhr          \nMittwoch\, 25.03.2026 – 19 Uhr (Online) \nDonnerstag 26.03.2026 – 19 Uhr          \nMontag\, 30.03.2026 – 19 Uhr \n  \nDie Teilnahme ist kostenfrei. \n  \nOrt: Alexandra Ellen Rechkemmer \nBodelschwinghstraße 2a \n40878 Ratingen \n  \n  \nAnmeldung \nMobil: +49 (0) 157. 75 37 28 02 (auch WhatsApp) \nMail: neu@aer-neuerin.de
URL:https://aer-folgreich-leben.de/event/grundkurs-info-aura-sehen-nach-rainer-struecker-8/
END:VEVENT
BEGIN:VEVENT
DTSTART;TZID=Europe/Berlin:20260327T153000
DTEND;TZID=Europe/Berlin:20260327T173000
DTSTAMP:20260420T140224
CREATED:20260317T145953Z
LAST-MODIFIED:20260318T101245Z
UID:2433-1774625400-1774632600@aer-folgreich-leben.de
SUMMARY:Gruppensitzung - nach Rainer Strücker _ 40629 Düsseldorf-Gerresheim
DESCRIPTION:In der Gruppensitzung werden die Probleme aller Teilnehmenden in Form von Blockaden\, einengenden Gedanken\, Ängsten\, körperlichen und mentalen Schmerzen im Energiefeld – der Aura\, durch die Veränderung der Schwingungsmuster gelöst\, ohne über die persönlichen Inhalte zu reden.  \nDas übergeordnete Thema wird klar und bewusst gemacht. \nGruppensitzungen erfordern keine Vorkenntnisse und sind dafür da\, die Wirkung der energetischen Arbeit zu erleben. \nIch freue mich auf Jeden. \n  \nPS: Nach der ersten Hälfte der Gruppensitzung machen wir eine Pause\, falls du für dich und die Gruppe etwas mitbringen möchtest\, mach das gerne. \n  \nBeitrag: 35\,00 € \nÜberweisung an das unten angegebene Konto\, oder in Bar vor Ort. \n  \nOrt: Ellen Kurz \nBlanckertzstr. 26 App. 213\, Haus 2 \n 40629 Düsseldorf-Gerresheim \n  \nAnmeldung bis einschließlich 25.3.2026\, danke:  \nEllen Kurz \nMobil: +49 (0) 179. 2928 949   oder \nAlexandra Ellen Rechkemmer \nMobil: +49 (0) 157. 7537 2802 (auch WhatsApp) \nMail: neu@aer-neuerin.de \n  \nBankverbindung: Sparkasse Hilden- Ratingen- Velbert \nIBAN: DE40 3345 0000 0042 1737 16 \nBIC: WELADED1VEL
URL:https://aer-folgreich-leben.de/event/gruppensitzung-nach-rainer-struecker-_-40629-duesseldorf-gerresheim/
END:VEVENT
BEGIN:VEVENT
DTSTART;TZID=Europe/Berlin:20260328T105000
DTEND;TZID=Europe/Berlin:20260328T180000
DTSTAMP:20260420T140224
CREATED:20260302T212209Z
LAST-MODIFIED:20260303T104226Z
UID:2385-1774695000-1774720800@aer-folgreich-leben.de
SUMMARY:Workshop: Das Leben w e i t e r betrachten - Wir geben gemeinsam dem Raum\, was wirklich wichtig ist - mit Bernd Gerke
DESCRIPTION:Über wichtige Dinge des Lebens machen sich viele Menschen sehr spät Gedanken\, oft \nzu spät. An diesem Tag werden wir daher wesentliche Themen beherzt anpacken. \nWir wollen in diesem Workshop für unser Leben einen weiteren und helleren Blick \nbekommen und darüber hinaus dem Tod\, wo immer und wann immer er sich uns \nzeigt\, mit mehr Gelassenheit\, Wissen und Weisheit begegnen können – entspannt. \nWir behandeln hier Themen wie „Was will ich wirklich arbeiten und wie viel?“\, „Sich \nZeit für seine Freunde\, wertvolle Menschen und seine Familie nehmen“ und „Sich \nerlauben echte Freude zu erleben und richtig glücklich zu sein“ frühzeitig. Frühzeitig – \ndamit wir den Umgang mit diesen Themen am Ende unseres Lebens möglichst nicht \nbereuen müssen. Im Workshop arbeiten wir lebendig dialogisch. \n  \nTeilnehmerbeitrag: € 144\,00 \n  \nOrt: Alexandra Rechkemmer \nBodelschwinghstr. 2a\, D – 40878 Ratingen \nTelefon: 0157. 7537 2802 \n  \nBitte Anmeldung bis spätestens 26. März 2026. Danke! \n  \nBernd Gerke \nTelefon: 02247-9693248 \nMobil: 01575-1541125 \nMail: info@berndgerke.de \nhttps://www.berndgerke.de
URL:https://aer-folgreich-leben.de/event/workshop-das-leben-w-e-i-t-e-r-betrachten-wir-geben-gemeinsam-dem-raum-was-wirklich-wichtig-ist-mit-bernd-gerke/
END:VEVENT
BEGIN:VEVENT
DTSTART;TZID=Europe/Berlin:20260330T190000
DTEND;TZID=Europe/Berlin:20260330T200000
DTSTAMP:20260420T140224
CREATED:20260305T112205Z
LAST-MODIFIED:20260320T105624Z
UID:2409-1774897200-1774900800@aer-folgreich-leben.de
SUMMARY:Grundkurs Info - Aura Sehen nach Rainer Strücker
DESCRIPTION:In unserem Energiefeld – der Aura\, werden während unseres Lebens alle Erlebnisse und Erfahrungen gespeichert die sich auf unseren Körper\, Psyche und Geist auswirken. \nDer Grundkurs gibt die Möglichkeit mit einfachen Übungen zu lernen\, wie wir die eigene Lebenskraft von allem befreien was sie schwächt und wie wir die Lebenskraft weiter stärken für mehr Lebensfreude in uns und unserem Leben. \nMit der neu gewonnenen Lebenskraft\, steigt die Wahrnehmung\, entfaltet sich die eigene Persönlichkeit und entwickeln sich die Potentiale des Bewusstseins frei. \nDie Grundausbildung setzt keinerlei Vorkenntnisse voraus\, dieser Weg steht allen offen. \nIch freue mich auf Jeden \nAlexandra \n  \nTerminüberblick vor Ort und Online: \nSonntag\, 08.03.2026 – 11 Uhr          \nFreitag\, 13.03.2026 – 19 Uhr (Online) \nSamstag\, 14.03.2026 – 11 Uhr          \nMontag\, 16.03.2026 – 19 Uhr (Online) \nFreitag\, 20.03.2026 – 19 Uhr (Online) \nSonntag\, 22.03.2026 – 11 Uhr          \nMittwoch\, 25.03.2026 – 19 Uhr (Online) \nDonnerstag 26.03.2026 – 19 Uhr          \nMontag\, 30.03.2026 – 19 Uhr \n  \nDie Teilnahme ist kostenfrei. \n  \nOrt: Alexandra Ellen Rechkemmer \nBodelschwinghstraße 2a \n40878 Ratingen \n  \n  \nAnmeldung \nMobil: +49 (0) 157. 75 37 28 02 (auch WhatsApp) \nMail: neu@aer-neuerin.de
URL:https://aer-folgreich-leben.de/event/grundkurs-info-aura-sehen-nach-rainer-struecker-9/
END:VEVENT
END:VCALENDAR