BEGIN:VCALENDAR
VERSION:2.0
PRODID:-//AER Neuerin - ECPv6.15.11//NONSGML v1.0//EN
CALSCALE:GREGORIAN
METHOD:PUBLISH
X-WR-CALNAME:AER Neuerin
X-ORIGINAL-URL:https://aer-folgreich-leben.de
X-WR-CALDESC:Veranstaltungen für AER Neuerin
REFRESH-INTERVAL;VALUE=DURATION:PT1H
X-Robots-Tag:noindex
X-PUBLISHED-TTL:PT1H
BEGIN:VTIMEZONE
TZID:Europe/Berlin
BEGIN:DAYLIGHT
TZOFFSETFROM:+0100
TZOFFSETTO:+0200
TZNAME:CEST
DTSTART:20250330T010000
END:DAYLIGHT
BEGIN:STANDARD
TZOFFSETFROM:+0200
TZOFFSETTO:+0100
TZNAME:CET
DTSTART:20251026T010000
END:STANDARD
BEGIN:DAYLIGHT
TZOFFSETFROM:+0100
TZOFFSETTO:+0200
TZNAME:CEST
DTSTART:20260329T010000
END:DAYLIGHT
BEGIN:STANDARD
TZOFFSETFROM:+0200
TZOFFSETTO:+0100
TZNAME:CET
DTSTART:20261025T010000
END:STANDARD
BEGIN:DAYLIGHT
TZOFFSETFROM:+0100
TZOFFSETTO:+0200
TZNAME:CEST
DTSTART:20270328T010000
END:DAYLIGHT
BEGIN:STANDARD
TZOFFSETFROM:+0200
TZOFFSETTO:+0100
TZNAME:CET
DTSTART:20271031T010000
END:STANDARD
END:VTIMEZONE
BEGIN:VEVENT
DTSTART;TZID=Europe/Berlin:20260418T110000
DTEND;TZID=Europe/Berlin:20260418T120000
DTSTAMP:20260420T152710
CREATED:20260411T150816Z
LAST-MODIFIED:20260411T154024Z
UID:2461-1776510000-1776513600@aer-folgreich-leben.de
SUMMARY:Grundkurs Info - Aura Sehen (nach Rainer Strücker) _ in 40878 Ratingen
DESCRIPTION:In unserem Energiefeld – der Aura\, werden während unseres Lebens alle Erlebnisse und Erfahrungen gespeichert die sich auf unseren Körper\, Psyche und Geist auswirken. \nDer Grundkurs gibt die Möglichkeit mit einfachen Übungen zu lernen\, wie wir die eigene Lebenskraft von allem befreien was sie schwächt und wie wir die Lebenskraft weiter stärken für mehr Lebensfreude in uns und unserem Leben. \nMit der neu gewonnenen Lebenskraft\, steigt die Wahrnehmung\, entfaltet sich die eigene Persönlichkeit und entwickeln sich die Potentiale des Bewusstseins frei. \nDie Grundausbildung setzt keinerlei Vorkenntnisse voraus\, dieser Weg steht allen offen. \nIch freue mich auf Jeden \nAlexandra \n  \nTerminüberblick Online und vor Ort: \nMittwoch\, 15.04.2026 – 19:30 Uhr (Online) \nSamstag\, 18.04.2026 – 11 Uhr \nDienstag\, 21.04.2026 – 19:30 Uhr \nSonntag\, 26.04.2026 – 11 Uhr (Online) \nFreitag\, 01.05.2026 – 11 Uhr \n  \nDie Teilnahme ist kostenfrei. \n  \nAn Zoom-Meeting teilnehmen: \nhttps://us06web.zoom.us/j/86891653861?pwd=RCNmMr8igpj29Tw6fWpfbJoUbDnaVs.1 \nMeeting-ID: 868 9165 3861 \nKenncode: 141669 \n  \nOrt: Alexandra Ellen Rechkemmer \nBodelschwinghstraße 2a \n40878 Ratingen \n  \nAnmeldung \nMobil: +49 (0) 157. 75 37 28 02 (auch WhatsApp) \nMail: neu@aer-neuerin.de
URL:https://aer-folgreich-leben.de/event/grundkurs-info-aura-sehen-nach-rainer-struecker-11/
END:VEVENT
END:VCALENDAR