BEGIN:VCALENDAR
VERSION:2.0
PRODID:-//AER Neuerin - ECPv6.15.11//NONSGML v1.0//EN
CALSCALE:GREGORIAN
METHOD:PUBLISH
X-WR-CALNAME:AER Neuerin
X-ORIGINAL-URL:https://aer-folgreich-leben.de
X-WR-CALDESC:Veranstaltungen für AER Neuerin
REFRESH-INTERVAL;VALUE=DURATION:PT1H
X-Robots-Tag:noindex
X-PUBLISHED-TTL:PT1H
BEGIN:VTIMEZONE
TZID:Europe/Berlin
BEGIN:DAYLIGHT
TZOFFSETFROM:+0100
TZOFFSETTO:+0200
TZNAME:CEST
DTSTART:20250330T010000
END:DAYLIGHT
BEGIN:STANDARD
TZOFFSETFROM:+0200
TZOFFSETTO:+0100
TZNAME:CET
DTSTART:20251026T010000
END:STANDARD
BEGIN:DAYLIGHT
TZOFFSETFROM:+0100
TZOFFSETTO:+0200
TZNAME:CEST
DTSTART:20260329T010000
END:DAYLIGHT
BEGIN:STANDARD
TZOFFSETFROM:+0200
TZOFFSETTO:+0100
TZNAME:CET
DTSTART:20261025T010000
END:STANDARD
BEGIN:DAYLIGHT
TZOFFSETFROM:+0100
TZOFFSETTO:+0200
TZNAME:CEST
DTSTART:20270328T010000
END:DAYLIGHT
BEGIN:STANDARD
TZOFFSETFROM:+0200
TZOFFSETTO:+0100
TZNAME:CET
DTSTART:20271031T010000
END:STANDARD
END:VTIMEZONE
BEGIN:VEVENT
DTSTART;TZID=Europe/Berlin:20260225T182000
DTEND;TZID=Europe/Berlin:20260225T213000
DTSTAMP:20260420T152707
CREATED:20260204T213847Z
LAST-MODIFIED:20260204T220153Z
UID:2374-1772043600-1772055000@aer-folgreich-leben.de
SUMMARY:Vortrag: Mein Leben nach dem Unfall - Der Tod ist nicht das Ende - Ein lebendiger Abend\, der Hoffnung bringt _ mit Bernd Gerke
DESCRIPTION:Im Vortrag geht es um Lebendigkeit\, um Leben und Tod im Zusammenhang und um die \nSeelenentwicklungsstufen bis hin zum Glück. Ich berichte über Aspekte der aktuellen \nNahtodforschung und darüber\, was viele Menschen am Ende ihres Lebens bereuen – damit \nwir es fröhlich anpacken können und später selbst möglichst nicht bereuen müssen. Ich \nerzähle über die vielfältigen und spannenden Erlebnisse von Menschen\, die ich während \nmeiner Vorträge und Veranstaltungen getroffen habe und über meine eigenen Erfahrungen. \n  \nTeilnehmerbeitrag: € 40\,00 \n  \nOrt: Alexandra Rechkemmer \nBodelschwinghstr. 2a\, D – 40878 Ratingen \nTelefon: 0157 75 37 2802 \n  \nBitte Anmeldung bei Alexandra Rechkemmer bis 23.2.2025. Danke! \n„Das Leben w e i t e r betrachten“. Vertiefender Tages-Workshop im April 2026 in Ratingen.
URL:https://aer-folgreich-leben.de/event/vortrag-mein-leben-nach-dem-unfall-der-tod-ist-nicht-das-ende-ein-lebendiger-abend-der-hoffnung-bringt-_-mit-berd-gerke/
END:VEVENT
END:VCALENDAR