BEGIN:VCALENDAR
VERSION:2.0
PRODID:-//AER Neuerin - ECPv6.15.11//NONSGML v1.0//EN
CALSCALE:GREGORIAN
METHOD:PUBLISH
X-ORIGINAL-URL:https://aer-folgreich-leben.de
X-WR-CALDESC:Veranstaltungen für AER Neuerin
REFRESH-INTERVAL;VALUE=DURATION:PT1H
X-Robots-Tag:noindex
X-PUBLISHED-TTL:PT1H
BEGIN:VTIMEZONE
TZID:Europe/Berlin
BEGIN:DAYLIGHT
TZOFFSETFROM:+0100
TZOFFSETTO:+0200
TZNAME:CEST
DTSTART:20250330T010000
END:DAYLIGHT
BEGIN:STANDARD
TZOFFSETFROM:+0200
TZOFFSETTO:+0100
TZNAME:CET
DTSTART:20251026T010000
END:STANDARD
BEGIN:DAYLIGHT
TZOFFSETFROM:+0100
TZOFFSETTO:+0200
TZNAME:CEST
DTSTART:20260329T010000
END:DAYLIGHT
BEGIN:STANDARD
TZOFFSETFROM:+0200
TZOFFSETTO:+0100
TZNAME:CET
DTSTART:20261025T010000
END:STANDARD
BEGIN:DAYLIGHT
TZOFFSETFROM:+0100
TZOFFSETTO:+0200
TZNAME:CEST
DTSTART:20270328T010000
END:DAYLIGHT
BEGIN:STANDARD
TZOFFSETFROM:+0200
TZOFFSETTO:+0100
TZNAME:CET
DTSTART:20271031T010000
END:STANDARD
END:VTIMEZONE
BEGIN:VEVENT
DTSTART;TZID=Europe/Berlin:20260206T180000
DTEND;TZID=Europe/Berlin:20260206T183000
DTSTAMP:20260420T164034
CREATED:20260122T204208Z
LAST-MODIFIED:20260123T103946Z
UID:2352-1770400800-1770402600@aer-folgreich-leben.de
SUMMARY:Meditation-Online zum Quell-Impuls von „Strücker-energetische Konzepte“ mit Alexandra Ellen Rechkemmer
DESCRIPTION:Jeder ist herzlich Willkommen\, bei der Meditation-Online zum Quell-Impuls dabei zu sein. \nWeitere Infos und Termine zum Quell-Impuls findest du auf der Homepage „Strücker-energetische Konzepte“. \nHomepage Link: https://energetische-konzepte.de/kalender \nMit diesem Link wirst du auf die Homepage „Strücker-energetische Konzepte“ weitergeleitet. \n  \nTermin-Überblick der folgenden Quell-Meditationen: \n\nMontag\, 26.1.2026 – 18 Uhr\nFreitag\, 6.2.2026 – 18 Uhr \nSonntag\, 22.3.2026 – 18 Uhr \nDonnerstag\, 2.4.2026 – 18 Uhr\nMontag\, 13.4.2026 – 18 Uhr \nFreitag\, 24.4.2026 – 18 Uhr\n\n  \nPreis: kostenfrei \n  \nAn Zoom-Meeting *Meditation-Online* teilnehmen: \nhttps://us06web.zoom.us/j/83891722197?pwd=KFcCThPWzSN3vjC3c7WzOHoZo7mbcp.1 \nMeeting-ID: 838 9172 2197 \nKenncode: 612600 \n  \nMeditation – Vorbereitung: \n• Bequeme und warme Kleidung – in der Du Dich frei bewegen kannst\, Wasser\, Tee\, … zum trinken \n• Ein angenehmer Stuhl\, Couch oder Bett\, ein Kopfkissen und eine Decke \n• Einen Raum in dem Du ungestört bist mit sehr guter Internetverbindung \n• Eine angenehme Atmosphäre\, mit einem guten Duft\, frischer Luft oder was Dir sonst angenehm ist \n• Falls du gerne eine begleitende Musik im Hintergrund hören möchtest\, wähle für dich die passende Musik vorab aus\, so kann jeder frei\, mit und ohne Musik teilnehmen \n• Erschaffe Dir auch gerne für die Zukunft einen Platz in Deinem zu Hause\, an dem Du immer wieder zwischendurch in die Ruhe kommen kannst und zu dir findest \n  \nTeile gerne die kommenden Meditation Termine mit deinen Lieben\, Freunden und Anderen\, für ein weiteres Wachstum Miteinander.  \n  \nAlle sind herzlich willkommen. \n🧡 Grüße Alexandra
URL:https://aer-folgreich-leben.de/event/meditation-online-zum-quell-impuls-von-struecker-energetische-konzepte-mit-alexandra-ellen-rechkemmer-2/
END:VEVENT
END:VCALENDAR