BEGIN:VCALENDAR
VERSION:2.0
PRODID:-//AER Neuerin - ECPv6.15.11//NONSGML v1.0//EN
CALSCALE:GREGORIAN
METHOD:PUBLISH
X-ORIGINAL-URL:https://aer-folgreich-leben.de
X-WR-CALDESC:Veranstaltungen für AER Neuerin
REFRESH-INTERVAL;VALUE=DURATION:PT1H
X-Robots-Tag:noindex
X-PUBLISHED-TTL:PT1H
BEGIN:VTIMEZONE
TZID:Europe/Berlin
BEGIN:DAYLIGHT
TZOFFSETFROM:+0100
TZOFFSETTO:+0200
TZNAME:CEST
DTSTART:20250330T010000
END:DAYLIGHT
BEGIN:STANDARD
TZOFFSETFROM:+0200
TZOFFSETTO:+0100
TZNAME:CET
DTSTART:20251026T010000
END:STANDARD
BEGIN:DAYLIGHT
TZOFFSETFROM:+0100
TZOFFSETTO:+0200
TZNAME:CEST
DTSTART:20260329T010000
END:DAYLIGHT
BEGIN:STANDARD
TZOFFSETFROM:+0200
TZOFFSETTO:+0100
TZNAME:CET
DTSTART:20261025T010000
END:STANDARD
BEGIN:DAYLIGHT
TZOFFSETFROM:+0100
TZOFFSETTO:+0200
TZNAME:CEST
DTSTART:20270328T010000
END:DAYLIGHT
BEGIN:STANDARD
TZOFFSETFROM:+0200
TZOFFSETTO:+0100
TZNAME:CET
DTSTART:20271031T010000
END:STANDARD
END:VTIMEZONE
BEGIN:VEVENT
DTSTART;TZID=Europe/Berlin:20260115T180000
DTEND;TZID=Europe/Berlin:20260115T183000
DTSTAMP:20260421T074924
CREATED:20251216T131358Z
LAST-MODIFIED:20251216T132226Z
UID:2334-1768500000-1768501800@aer-folgreich-leben.de
SUMMARY:Online-Meditation zum Quell-Impuls (Energetische Konzepte Strücker) mit Alexandra Ellen Rechkemmer
DESCRIPTION:Jeder ist herzlich Willkommen\, bei der Online Meditation zum Quell-Impuls (von Energetische Konzepte Strücker) dabei zu sein. \nWeitere Infos zum Quell-Impuls findest du auf der Homepage der Energetischen Konzepte Strücker. \nLink zu weiteren Quell-Impuls Terminen: https://energetische-konzepte.de/kalender \nMit diesem Link wirst du auf die Homepage – Energetische Konzepte Strücker – weitergeleitet. \n  \nWeitere Termine der Online Meditationen: \n\nDonnerstag 15.1.2026\n\nWeitere Termine sind in Planung. \n  \nPreis: kostenfrei \n  \nZOOM Meeting-ID: 816 3572 6330 \nZOOM Kenncode: 843727 \nDirekter Link in den Zoom Raum für die Online-Meditation zum Quell-Impuls \nhttps://us06web.zoom.us/j/81635726330?pwd=UkgPGWuwnGpf9Q4QEg5rIC6eyezABS.1 \n  \nMeditation – Vorbereitung: \n• Bequeme und warme Kleidung – in der Du Dich frei bewegen kannst\, Wasser\, Tee\, … zum trinken \n• Ein angenehmer Stuhl\, Couch oder Bett\, ein Kopfkissen und eine Decke \n• Einen Raum in dem Du ungestört bist mit sehr guter Internetverbindung \n• Eine angenehme Atmosphäre\, mit einem guten Duft\, frischer Luft oder was Dir sonst angenehm ist \n• Falls du gerne eine begleitende Musik im Hintergrund hören möchtest\, wähle für dich die passende Musik vorab aus\, so kann jeder frei\, mit und ohne Musik teilnehmen \n• Erschaffe Dir auch gerne für die Zukunft einen Platz in Deinem zu Hause\, an dem Du immer wieder zwischendurch in die Ruhe kommen kannst und zu dir findest \n  \nGerne weiter sagen und mit Anderen teilen. \n  \nIch freue mich auf Alle \n Grüße Alexandra
URL:https://aer-folgreich-leben.de/event/online-meditation-zum-quell-impuls-energetische-konzepte-struecker-mit-alexandra-ellen-rechkemmer-8/
END:VEVENT
END:VCALENDAR